BEGIN:VCALENDAR
VERSION:2.0
PRODID:-//Excmo. Ayuntamiento de Baza - ECPv6.10.1.1//NONSGML v1.0//EN
CALSCALE:GREGORIAN
METHOD:PUBLISH
X-ORIGINAL-URL:https://ayuntamientodebaza.es
X-WR-CALDESC:Eventos para Excmo. Ayuntamiento de Baza
REFRESH-INTERVAL;VALUE=DURATION:PT1H
X-Robots-Tag:noindex
X-PUBLISHED-TTL:PT1H
BEGIN:VTIMEZONE
TZID:UTC
BEGIN:STANDARD
TZOFFSETFROM:+0000
TZOFFSETTO:+0000
TZNAME:UTC
DTSTART:20170101T000000
END:STANDARD
END:VTIMEZONE
BEGIN:VEVENT
DTSTART;TZID=UTC:20171117T140000
DTEND;TZID=UTC:20171117T235959
DTSTAMP:20260423T104419
CREATED:20170418T142700Z
LAST-MODIFIED:20170418T142700Z
UID:2992-1510927200-1510963199@ayuntamientodebaza.es
SUMMARY:Junta de Gobierno Local
DESCRIPTION:Celebración de la Junta de Gobierno Local del Ayuntamiento de Baza.
URL:https://ayuntamientodebaza.es/agenda/junta-de-gobierno-local-31/
LOCATION:Sala de Junta de Gobierno. 1ª planta edificio municipal Plaza Mayor.\, Sala de Junta de Gobierno. 1ª planta edificio municipal Plaza Mayor.
CATEGORIES:Institucional
END:VEVENT
END:VCALENDAR