BEGIN:VCALENDAR
VERSION:2.0
PRODID:-//Excmo. Ayuntamiento de Baza - ECPv6.10.1.1//NONSGML v1.0//EN
CALSCALE:GREGORIAN
METHOD:PUBLISH
X-WR-CALNAME:Excmo. Ayuntamiento de Baza
X-ORIGINAL-URL:https://ayuntamientodebaza.es
X-WR-CALDESC:Eventos para Excmo. Ayuntamiento de Baza
REFRESH-INTERVAL;VALUE=DURATION:PT1H
X-Robots-Tag:noindex
X-PUBLISHED-TTL:PT1H
BEGIN:VTIMEZONE
TZID:UTC
BEGIN:STANDARD
TZOFFSETFROM:+0000
TZOFFSETTO:+0000
TZNAME:UTC
DTSTART:20160101T000000
END:STANDARD
END:VTIMEZONE
BEGIN:VEVENT
DTSTART;TZID=UTC:20161110T203000
DTEND;TZID=UTC:20161110T220000
DTSTAMP:20260422T233252
CREATED:20161028T125135Z
LAST-MODIFIED:20161028T125135Z
UID:2759-1478809800-1478815200@ayuntamientodebaza.es
SUMMARY:Presentación 'La mano quebrada'
DESCRIPTION:Presentación del libro ‘La mano quebrada’ \nPresentación de la obra ‘La mano quebrada’ de Francisco Gil Traviotto\, miembro de la Academia de las Buenas Letras de Granada.
URL:https://ayuntamientodebaza.es/agenda/presentacion-la-mano-quebrada/
LOCATION:Auditorio del Museo\, Auditorio del Museo
CATEGORIES:Cultura y Educación
END:VEVENT
END:VCALENDAR