BEGIN:VCALENDAR
VERSION:2.0
PRODID:-//Excmo. Ayuntamiento de Baza - ECPv6.10.1.1//NONSGML v1.0//EN
CALSCALE:GREGORIAN
METHOD:PUBLISH
X-ORIGINAL-URL:https://ayuntamientodebaza.es
X-WR-CALDESC:Eventos para Excmo. Ayuntamiento de Baza
REFRESH-INTERVAL;VALUE=DURATION:PT1H
X-Robots-Tag:noindex
X-PUBLISHED-TTL:PT1H
BEGIN:VTIMEZONE
TZID:UTC
BEGIN:STANDARD
TZOFFSETFROM:+0000
TZOFFSETTO:+0000
TZNAME:UTC
DTSTART:20160101T000000
END:STANDARD
END:VTIMEZONE
BEGIN:VEVENT
DTSTART;TZID=UTC:20161118T203000
DTEND;TZID=UTC:20161118T235959
DTSTAMP:20260422T233309
CREATED:20161115T111750Z
LAST-MODIFIED:20161115T111750Z
UID:2772-1479501000-1479513599@ayuntamientodebaza.es
SUMMARY:Concierto Con Motivo de Santa Cecilia
DESCRIPTION:Concierto de la banda Municipal de de música con Motivo de Santa Cecilia. Entrada libre hasta cubrir aforo.
URL:https://ayuntamientodebaza.es/agenda/concierto-con-motivo-de-santa-cecilia/
LOCATION:Auditorio Enrique Pareja\, Auditorio Enrique Pareja
CATEGORIES:Cultura y Educación
END:VEVENT
END:VCALENDAR