BEGIN:VCALENDAR
VERSION:2.0
PRODID:-//Excmo. Ayuntamiento de Baza - ECPv6.10.1.1//NONSGML v1.0//EN
CALSCALE:GREGORIAN
METHOD:PUBLISH
X-WR-CALNAME:Excmo. Ayuntamiento de Baza
X-ORIGINAL-URL:https://ayuntamientodebaza.es
X-WR-CALDESC:Eventos para Excmo. Ayuntamiento de Baza
REFRESH-INTERVAL;VALUE=DURATION:PT1H
X-Robots-Tag:noindex
X-PUBLISHED-TTL:PT1H
BEGIN:VTIMEZONE
TZID:UTC
BEGIN:STANDARD
TZOFFSETFROM:+0000
TZOFFSETTO:+0000
TZNAME:UTC
DTSTART:20160101T000000
END:STANDARD
END:VTIMEZONE
BEGIN:VEVENT
DTSTART;TZID=UTC:20161122T190000
DTEND;TZID=UTC:20161122T235959
DTSTAMP:20260422T233249
CREATED:20161115T113435Z
LAST-MODIFIED:20161115T113435Z
UID:2778-1479841200-1479859199@ayuntamientodebaza.es
SUMMARY:Concierto con motivo del día de Santa Cecilia
DESCRIPTION:Concierto de profesores con motivo de la celebración  del día de Santa Cecilia.
URL:https://ayuntamientodebaza.es/agenda/concierto-con-motivo-del-dia-de-santa-cecilia/
LOCATION:Auditorio Antón Garcia Abril\, Auditorio Antón Garcia Abril
CATEGORIES:Cultura y Educación
END:VEVENT
END:VCALENDAR