BEGIN:VCALENDAR
VERSION:2.0
PRODID:-//Excmo. Ayuntamiento de Baza - ECPv6.10.1.1//NONSGML v1.0//EN
CALSCALE:GREGORIAN
METHOD:PUBLISH
X-ORIGINAL-URL:https://ayuntamientodebaza.es
X-WR-CALDESC:Eventos para Excmo. Ayuntamiento de Baza
REFRESH-INTERVAL;VALUE=DURATION:PT1H
X-Robots-Tag:noindex
X-PUBLISHED-TTL:PT1H
BEGIN:VTIMEZONE
TZID:UTC
BEGIN:STANDARD
TZOFFSETFROM:+0000
TZOFFSETTO:+0000
TZNAME:UTC
DTSTART:20160101T000000
END:STANDARD
END:VTIMEZONE
BEGIN:VEVENT
DTSTART;TZID=UTC:20161127T193000
DTEND;TZID=UTC:20161127T235959
DTSTAMP:20260422T233313
CREATED:20161115T112849Z
LAST-MODIFIED:20161115T112849Z
UID:2775-1480275000-1480291199@ayuntamientodebaza.es
SUMMARY:Grupo de Teatro Pulicanca "Sancho en la Ínsula"
DESCRIPTION:Grupo de Teatro Pulicanca\, representa “Sancho en la Ínsula” es la adaptacion teatral que Alejandro Casona hizo el capítulo 51 de la segunda parte de El Quijote de Cervantes. \nEntrada libre hasta cubrir aforo.
URL:https://ayuntamientodebaza.es/agenda/grupo-de-teatro-pulicanca-sancho-en-la-insula/
LOCATION:Teatro Ideal\, Teatro Ideal
CATEGORIES:Cultura y Educación
END:VEVENT
END:VCALENDAR