BEGIN:VCALENDAR
VERSION:2.0
PRODID:-//Excmo. Ayuntamiento de Baza - ECPv6.10.1.1//NONSGML v1.0//EN
CALSCALE:GREGORIAN
METHOD:PUBLISH
X-WR-CALNAME:Excmo. Ayuntamiento de Baza
X-ORIGINAL-URL:https://ayuntamientodebaza.es
X-WR-CALDESC:Eventos para Excmo. Ayuntamiento de Baza
REFRESH-INTERVAL;VALUE=DURATION:PT1H
X-Robots-Tag:noindex
X-PUBLISHED-TTL:PT1H
BEGIN:VTIMEZONE
TZID:UTC
BEGIN:STANDARD
TZOFFSETFROM:+0000
TZOFFSETTO:+0000
TZNAME:UTC
DTSTART:20160101T000000
END:STANDARD
END:VTIMEZONE
BEGIN:VEVENT
DTSTART;TZID=UTC:20161217T200000
DTEND;TZID=UTC:20161217T235959
DTSTAMP:20260422T220810
CREATED:20161205T105641Z
LAST-MODIFIED:20161205T105641Z
UID:2801-1482004800-1482019199@ayuntamientodebaza.es
SUMMARY:XIII navidad rociera
DESCRIPTION:Concierto de navidad a cargo de la asociacion musical Gotas de Andalucía. \nMuseo de Baza
URL:https://ayuntamientodebaza.es/agenda/xiii-navidad-rociera/
LOCATION:Museo\, Museo
CATEGORIES:Cultura y Educación
END:VEVENT
END:VCALENDAR