BEGIN:VCALENDAR
VERSION:2.0
PRODID:-//Excmo. Ayuntamiento de Baza - ECPv6.10.1.1//NONSGML v1.0//EN
CALSCALE:GREGORIAN
METHOD:PUBLISH
X-WR-CALNAME:Excmo. Ayuntamiento de Baza
X-ORIGINAL-URL:https://ayuntamientodebaza.es
X-WR-CALDESC:Eventos para Excmo. Ayuntamiento de Baza
REFRESH-INTERVAL;VALUE=DURATION:PT1H
X-Robots-Tag:noindex
X-PUBLISHED-TTL:PT1H
BEGIN:VTIMEZONE
TZID:UTC
BEGIN:STANDARD
TZOFFSETFROM:+0000
TZOFFSETTO:+0000
TZNAME:UTC
DTSTART:20160101T000000
END:STANDARD
END:VTIMEZONE
BEGIN:VEVENT
DTSTART;TZID=UTC:20161222T180000
DTEND;TZID=UTC:20161222T200000
DTSTAMP:20260422T220804
CREATED:20161205T112959Z
LAST-MODIFIED:20161205T112959Z
UID:2829-1482429600-1482436800@ayuntamientodebaza.es
SUMMARY:Cartero Real
DESCRIPTION:CARTERO REAL. \nPara que los niños y niñas de Baza puedan entregar sus cartas dirigidas a los Reyes Magos\, y pasar una  tarde divertida. Casa de la Cultura\, de 18.00 a 20.00 horas.
URL:https://ayuntamientodebaza.es/agenda/cartero-real-2/
LOCATION:Casa de la Cultura\, Casa de la Cultura
CATEGORIES:Cultura y Educación
END:VEVENT
BEGIN:VEVENT
DTSTART;TZID=UTC:20161222T203000
DTEND;TZID=UTC:20161222T235959
DTSTAMP:20260422T220804
CREATED:20161205T111628Z
LAST-MODIFIED:20161205T111628Z
UID:2804-1482438600-1482451199@ayuntamientodebaza.es
SUMMARY:Tradicional Concierto de Navidad
DESCRIPTION:TRADICIONAL CONCIERTO DE NAVIDAD a cargo de los Coros “Alcazaba” y “Juan Hernández” y la Banda Municipal de Música con el  dúo de sopranos Laura y Andrea Manzano Úbeda. Auditorio Enrique Pareja\, 20.30 horas. La entrada consistirá en la donación de un Juguete para la “Campaña Ningún Niño Sin Juguete”
URL:https://ayuntamientodebaza.es/agenda/tradicional-concierto-de-navidad/
CATEGORIES:Cultura y Educación
END:VEVENT
END:VCALENDAR