BEGIN:VCALENDAR
VERSION:2.0
PRODID:-//Excmo. Ayuntamiento de Baza - ECPv6.10.1.1//NONSGML v1.0//EN
CALSCALE:GREGORIAN
METHOD:PUBLISH
X-ORIGINAL-URL:https://ayuntamientodebaza.es
X-WR-CALDESC:Eventos para Excmo. Ayuntamiento de Baza
REFRESH-INTERVAL;VALUE=DURATION:PT1H
X-Robots-Tag:noindex
X-PUBLISHED-TTL:PT1H
BEGIN:VTIMEZONE
TZID:UTC
BEGIN:STANDARD
TZOFFSETFROM:+0000
TZOFFSETTO:+0000
TZNAME:UTC
DTSTART:20160101T000000
END:STANDARD
END:VTIMEZONE
BEGIN:VEVENT
DTSTART;VALUE=DATE:20161230
DTEND;VALUE=DATE:20161231
DTSTAMP:20260422T191112
CREATED:20161205T113620Z
LAST-MODIFIED:20161205T113620Z
UID:2846-1483056000-1483142399@ayuntamientodebaza.es
SUMMARY:Parque infantil  Mundo Fantasia
DESCRIPTION:Todo tipo de atracciones infantiles\, personajes de animación y muchas sorpresas.
URL:https://ayuntamientodebaza.es/agenda/parque-infantil-mundo-fantasia-5/
LOCATION:Pabellón de Ferias\, Pabellón de Ferias
CATEGORIES:Cultura y Educación
END:VEVENT
BEGIN:VEVENT
DTSTART;TZID=UTC:20161230T180000
DTEND;TZID=UTC:20161230T200000
DTSTAMP:20260422T191112
CREATED:20161205T112959Z
LAST-MODIFIED:20161205T112959Z
UID:2837-1483120800-1483128000@ayuntamientodebaza.es
SUMMARY:Cartero Real
DESCRIPTION:CARTERO REAL. \nPara que los niños y niñas de Baza puedan entregar sus cartas dirigidas a los Reyes Magos\, y pasar una  tarde divertida. Casa de la Cultura\, de 18.00 a 20.00 horas.
URL:https://ayuntamientodebaza.es/agenda/cartero-real-10/
LOCATION:Casa de la Cultura\, Casa de la Cultura
CATEGORIES:Cultura y Educación
END:VEVENT
END:VCALENDAR