BEGIN:VCALENDAR
VERSION:2.0
PRODID:-//Excmo. Ayuntamiento de Baza - ECPv6.10.1.1//NONSGML v1.0//EN
CALSCALE:GREGORIAN
METHOD:PUBLISH
X-ORIGINAL-URL:https://ayuntamientodebaza.es
X-WR-CALDESC:Eventos para Excmo. Ayuntamiento de Baza
REFRESH-INTERVAL;VALUE=DURATION:PT1H
X-Robots-Tag:noindex
X-PUBLISHED-TTL:PT1H
BEGIN:VTIMEZONE
TZID:UTC
BEGIN:STANDARD
TZOFFSETFROM:+0000
TZOFFSETTO:+0000
TZNAME:UTC
DTSTART:20170101T000000
END:STANDARD
END:VTIMEZONE
BEGIN:VEVENT
DTSTART;TZID=UTC:20170108T120000
DTEND;TZID=UTC:20170108T235959
DTSTAMP:20260422T191051
CREATED:20161205T115953Z
LAST-MODIFIED:20161205T115953Z
UID:2854-1483876800-1483919999@ayuntamientodebaza.es
SUMMARY:Cantando con Walt Disney
DESCRIPTION:“CANTANDO CON WALT DISNEY”. \n Orquesta y coro de la Academia de Artes Escénicas\, solistas actores y la participación del grupo Enredados por la música. Teatro Ideal \n Días 6 y 7   a las 19.00 horas. \n Día   8 a las 12.00 horas
URL:https://ayuntamientodebaza.es/agenda/cantando-con-walt-disney-6/
CATEGORIES:Cultura y Educación
END:VEVENT
BEGIN:VEVENT
DTSTART;TZID=UTC:20170108T190000
DTEND;TZID=UTC:20170108T235959
DTSTAMP:20260422T191051
CREATED:20161205T115855Z
LAST-MODIFIED:20161205T115855Z
UID:2851-1483902000-1483919999@ayuntamientodebaza.es
SUMMARY:Cantando con Walt Disney
DESCRIPTION:“CANTANDO CON WALT DISNEY”. \n Orquesta y coro de la Academia de Artes Escénicas\, solistas actores y la participación del grupo Enredados por la música. Teatro Ideal \n Días 6 y 7   a las 19.00 horas. \n Día   8 a las 12.00 horas
URL:https://ayuntamientodebaza.es/agenda/cantando-con-walt-disney-3/
CATEGORIES:Cultura y Educación
END:VEVENT
END:VCALENDAR