BEGIN:VCALENDAR
VERSION:2.0
PRODID:-//Excmo. Ayuntamiento de Baza - ECPv6.10.1.1//NONSGML v1.0//EN
CALSCALE:GREGORIAN
METHOD:PUBLISH
X-ORIGINAL-URL:https://ayuntamientodebaza.es
X-WR-CALDESC:Eventos para Excmo. Ayuntamiento de Baza
REFRESH-INTERVAL;VALUE=DURATION:PT1H
X-Robots-Tag:noindex
X-PUBLISHED-TTL:PT1H
BEGIN:VTIMEZONE
TZID:UTC
BEGIN:STANDARD
TZOFFSETFROM:+0000
TZOFFSETTO:+0000
TZNAME:UTC
DTSTART:20170101T000000
END:STANDARD
END:VTIMEZONE
BEGIN:VEVENT
DTSTART;TZID=UTC:20170126T200000
DTEND;TZID=UTC:20170126T235959
DTSTAMP:20260422T191049
CREATED:20170126T130644Z
LAST-MODIFIED:20170126T130644Z
UID:2868-1485460800-1485475199@ayuntamientodebaza.es
SUMMARY:Presentación del libro "Cartas son Voz"
DESCRIPTION:PRESENTACIÓN DEL LIBRO “CARTAS SIN VOZ” de Dª Amalia Moya Pérez.  \nAuditorio Museo\, 20.00 horas
URL:https://ayuntamientodebaza.es/agenda/presentacion-del-libro-cartas-son-voz/
CATEGORIES:Cultura y Educación
END:VEVENT
END:VCALENDAR