BEGIN:VCALENDAR
VERSION:2.0
PRODID:-//Excmo. Ayuntamiento de Baza - ECPv6.10.1.1//NONSGML v1.0//EN
CALSCALE:GREGORIAN
METHOD:PUBLISH
X-ORIGINAL-URL:https://ayuntamientodebaza.es
X-WR-CALDESC:Eventos para Excmo. Ayuntamiento de Baza
REFRESH-INTERVAL;VALUE=DURATION:PT1H
X-Robots-Tag:noindex
X-PUBLISHED-TTL:PT1H
BEGIN:VTIMEZONE
TZID:UTC
BEGIN:STANDARD
TZOFFSETFROM:+0000
TZOFFSETTO:+0000
TZNAME:UTC
DTSTART:20170101T000000
END:STANDARD
END:VTIMEZONE
BEGIN:VEVENT
DTSTART;TZID=UTC:20170202T080000
DTEND;TZID=UTC:20170202T170000
DTSTAMP:20260422T155133
CREATED:20170202T140504Z
LAST-MODIFIED:20170202T140504Z
UID:2890-1486022400-1486054800@ayuntamientodebaza.es
SUMMARY:Proyección "Habana"
DESCRIPTION:Salón Ideal. Cine y Chocolate
URL:https://ayuntamientodebaza.es/agenda/proyeccion-habana/
CATEGORIES:Cultura y Educación
END:VEVENT
BEGIN:VEVENT
DTSTART;TZID=UTC:20170202T180000
DTEND;TZID=UTC:20170202T235959
DTSTAMP:20260422T155133
CREATED:20170202T130000Z
LAST-MODIFIED:20170202T130000Z
UID:2869-1486058400-1486079999@ayuntamientodebaza.es
SUMMARY:Cuenta cuentos infantil.
DESCRIPTION:Biblioteca municipal
URL:https://ayuntamientodebaza.es/agenda/cuenta-cuentos-infantil/
CATEGORIES:Cultura y Educación
END:VEVENT
END:VCALENDAR