BEGIN:VCALENDAR
VERSION:2.0
PRODID:-//Excmo. Ayuntamiento de Baza - ECPv6.10.1.1//NONSGML v1.0//EN
CALSCALE:GREGORIAN
METHOD:PUBLISH
X-ORIGINAL-URL:https://ayuntamientodebaza.es
X-WR-CALDESC:Eventos para Excmo. Ayuntamiento de Baza
REFRESH-INTERVAL;VALUE=DURATION:PT1H
X-Robots-Tag:noindex
X-PUBLISHED-TTL:PT1H
BEGIN:VTIMEZONE
TZID:UTC
BEGIN:STANDARD
TZOFFSETFROM:+0000
TZOFFSETTO:+0000
TZNAME:UTC
DTSTART:20170101T000000
END:STANDARD
END:VTIMEZONE
BEGIN:VEVENT
DTSTART;TZID=UTC:20170210T170000
DTEND;TZID=UTC:20170210T235959
DTSTAMP:20260422T155134
CREATED:20170202T130411Z
LAST-MODIFIED:20170202T130411Z
UID:2873-1486746000-1486771199@ayuntamientodebaza.es
SUMMARY:Taller de Memoria
DESCRIPTION:Biblioteca Municipal
URL:https://ayuntamientodebaza.es/agenda/taller-de-memoria-2/
CATEGORIES:Cultura y Educación
END:VEVENT
BEGIN:VEVENT
DTSTART;TZID=UTC:20170210T180000
DTEND;TZID=UTC:20170210T235959
DTSTAMP:20260422T155134
CREATED:20170202T130000Z
LAST-MODIFIED:20170202T130000Z
UID:2876-1486749600-1486771199@ayuntamientodebaza.es
SUMMARY:Cuenta cuentos infantil.
DESCRIPTION:Biblioteca municipal
URL:https://ayuntamientodebaza.es/agenda/cuenta-cuentos-infantil-4/
CATEGORIES:Cultura y Educación
END:VEVENT
BEGIN:VEVENT
DTSTART;TZID=UTC:20170210T200000
DTEND;TZID=UTC:20170210T235959
DTSTAMP:20260422T155134
CREATED:20170203T091846Z
LAST-MODIFIED:20170203T091846Z
UID:2892-1486756800-1486771199@ayuntamientodebaza.es
SUMMARY:Presentación del libro "Cartas sin Voz"
DESCRIPTION:Auditorio Museo. Escritora Amalia Moya Pérez.
URL:https://ayuntamientodebaza.es/agenda/presentacion-del-libro-cartas-sin-voz/
CATEGORIES:Cultura y Educación
END:VEVENT
END:VCALENDAR