BEGIN:VCALENDAR
VERSION:2.0
PRODID:-//Excmo. Ayuntamiento de Baza - ECPv6.10.1.1//NONSGML v1.0//EN
CALSCALE:GREGORIAN
METHOD:PUBLISH
X-WR-CALNAME:Excmo. Ayuntamiento de Baza
X-ORIGINAL-URL:https://ayuntamientodebaza.es
X-WR-CALDESC:Eventos para Excmo. Ayuntamiento de Baza
REFRESH-INTERVAL;VALUE=DURATION:PT1H
X-Robots-Tag:noindex
X-PUBLISHED-TTL:PT1H
BEGIN:VTIMEZONE
TZID:UTC
BEGIN:STANDARD
TZOFFSETFROM:+0000
TZOFFSETTO:+0000
TZNAME:UTC
DTSTART:20170101T000000
END:STANDARD
END:VTIMEZONE
BEGIN:VEVENT
DTSTART;TZID=UTC:20170219T120000
DTEND;TZID=UTC:20170219T235959
DTSTAMP:20260422T155010
CREATED:20170203T103520Z
LAST-MODIFIED:20170203T103520Z
UID:2898-1487505600-1487548799@ayuntamientodebaza.es
SUMMARY:Cuenta cuentos infantil
DESCRIPTION:Biblioteca Municipal
URL:https://ayuntamientodebaza.es/agenda/cuenta-cuentos-infantil-18/
CATEGORIES:Cultura y Educación
END:VEVENT
BEGIN:VEVENT
DTSTART;TZID=UTC:20170219T123000
DTEND;TZID=UTC:20170219T235959
DTSTAMP:20260422T155010
CREATED:20170203T104324Z
LAST-MODIFIED:20170203T104324Z
UID:2899-1487507400-1487548799@ayuntamientodebaza.es
SUMMARY:Teatro infantil "¿Cómo te lo cuento?"
DESCRIPTION:Teatro Ideal. Representación teatral infantil “¿Cómo te lo cuento?” de la compañia Onira Teatro. \nEntrada 5€
URL:https://ayuntamientodebaza.es/agenda/teatro-infantil-como-te-lo-cuento/
CATEGORIES:Cultura y Educación
END:VEVENT
END:VCALENDAR