BEGIN:VCALENDAR
VERSION:2.0
PRODID:-//Excmo. Ayuntamiento de Baza - ECPv6.10.1.1//NONSGML v1.0//EN
CALSCALE:GREGORIAN
METHOD:PUBLISH
X-WR-CALNAME:Excmo. Ayuntamiento de Baza
X-ORIGINAL-URL:https://ayuntamientodebaza.es
X-WR-CALDESC:Eventos para Excmo. Ayuntamiento de Baza
REFRESH-INTERVAL;VALUE=DURATION:PT1H
X-Robots-Tag:noindex
X-PUBLISHED-TTL:PT1H
BEGIN:VTIMEZONE
TZID:UTC
BEGIN:STANDARD
TZOFFSETFROM:+0000
TZOFFSETTO:+0000
TZNAME:UTC
DTSTART:20170101T000000
END:STANDARD
END:VTIMEZONE
BEGIN:VEVENT
DTSTART;TZID=UTC:20170226T110000
DTEND;TZID=UTC:20170226T143000
DTSTAMP:20260422T155009
CREATED:20170203T111059Z
LAST-MODIFIED:20170203T111059Z
UID:2905-1488106800-1488119400@ayuntamientodebaza.es
SUMMARY:Carnaval infantil
DESCRIPTION:Pabellón de Ferias. Fiesta Infantil con animación\, juegos\, música\, espectáculo infantil\, hinchables y talleres.
URL:https://ayuntamientodebaza.es/agenda/carnaval-infantil/
CATEGORIES:Cultura y Educación
END:VEVENT
END:VCALENDAR