BEGIN:VCALENDAR
VERSION:2.0
PRODID:-//Excmo. Ayuntamiento de Baza - ECPv6.10.1.1//NONSGML v1.0//EN
CALSCALE:GREGORIAN
METHOD:PUBLISH
X-ORIGINAL-URL:https://ayuntamientodebaza.es
X-WR-CALDESC:Eventos para Excmo. Ayuntamiento de Baza
REFRESH-INTERVAL;VALUE=DURATION:PT1H
X-Robots-Tag:noindex
X-PUBLISHED-TTL:PT1H
BEGIN:VTIMEZONE
TZID:UTC
BEGIN:STANDARD
TZOFFSETFROM:+0000
TZOFFSETTO:+0000
TZNAME:UTC
DTSTART:20170101T000000
END:STANDARD
END:VTIMEZONE
BEGIN:VEVENT
DTSTART;TZID=UTC:20170228T123000
DTEND;TZID=UTC:20170228T235959
DTSTAMP:20260422T141959
CREATED:20170203T113243Z
LAST-MODIFIED:20170203T113243Z
UID:2908-1488285000-1488326399@ayuntamientodebaza.es
SUMMARY:Concierto Extraordinario de la Banda Municipal
DESCRIPTION:Salón Ideal. Concierto Extraordinario de la Banda Municipal de Música con motivo del Día de Andalucía. Entrada gratuita hasta cubrir aforo. 
URL:https://ayuntamientodebaza.es/agenda/concierto-extraordinario-de-la-banda-municipal/
CATEGORIES:Cultura y Educación
END:VEVENT
END:VCALENDAR