BEGIN:VCALENDAR
VERSION:2.0
PRODID:-//Excmo. Ayuntamiento de Baza - ECPv6.10.1.1//NONSGML v1.0//EN
CALSCALE:GREGORIAN
METHOD:PUBLISH
X-ORIGINAL-URL:https://ayuntamientodebaza.es
X-WR-CALDESC:Eventos para Excmo. Ayuntamiento de Baza
REFRESH-INTERVAL;VALUE=DURATION:PT1H
X-Robots-Tag:noindex
X-PUBLISHED-TTL:PT1H
BEGIN:VTIMEZONE
TZID:UTC
BEGIN:STANDARD
TZOFFSETFROM:+0000
TZOFFSETTO:+0000
TZNAME:UTC
DTSTART:20170101T000000
END:STANDARD
END:VTIMEZONE
BEGIN:VEVENT
DTSTART;TZID=UTC:20170304T120000
DTEND;TZID=UTC:20170304T235959
DTSTAMP:20260422T141959
CREATED:20170303T102606Z
LAST-MODIFIED:20170303T102606Z
UID:2909-1488628800-1488671999@ayuntamientodebaza.es
SUMMARY:Cuenta cuentos infantil
DESCRIPTION:Biblioteca municipal
URL:https://ayuntamientodebaza.es/agenda/cuenta-cuentos-infantil-19/
CATEGORIES:Cultura y Educación
END:VEVENT
BEGIN:VEVENT
DTSTART;TZID=UTC:20170304T193000
DTEND;TZID=UTC:20170304T235959
DTSTAMP:20260422T141959
CREATED:20170303T104124Z
LAST-MODIFIED:20170303T104124Z
UID:2918-1488655800-1488671999@ayuntamientodebaza.es
SUMMARY:Pregón Semana Santa
DESCRIPTION:Salon Ideal
URL:https://ayuntamientodebaza.es/agenda/pregon-semana-santa/
CATEGORIES:Cultura y Educación
END:VEVENT
END:VCALENDAR