BEGIN:VCALENDAR
VERSION:2.0
PRODID:-//Excmo. Ayuntamiento de Baza - ECPv6.10.1.1//NONSGML v1.0//EN
CALSCALE:GREGORIAN
METHOD:PUBLISH
X-ORIGINAL-URL:https://ayuntamientodebaza.es
X-WR-CALDESC:Eventos para Excmo. Ayuntamiento de Baza
REFRESH-INTERVAL;VALUE=DURATION:PT1H
X-Robots-Tag:noindex
X-PUBLISHED-TTL:PT1H
BEGIN:VTIMEZONE
TZID:UTC
BEGIN:STANDARD
TZOFFSETFROM:+0000
TZOFFSETTO:+0000
TZNAME:UTC
DTSTART:20170101T000000
END:STANDARD
END:VTIMEZONE
BEGIN:VEVENT
DTSTART;TZID=UTC:20170305T120000
DTEND;TZID=UTC:20170305T235959
DTSTAMP:20260422T142030
CREATED:20170303T102606Z
LAST-MODIFIED:20170303T102606Z
UID:2910-1488715200-1488758399@ayuntamientodebaza.es
SUMMARY:Cuenta cuentos infantil
DESCRIPTION:Biblioteca municipal
URL:https://ayuntamientodebaza.es/agenda/cuenta-cuentos-infantil-20/
CATEGORIES:Cultura y Educación
END:VEVENT
BEGIN:VEVENT
DTSTART;TZID=UTC:20170305T123000
DTEND;TZID=UTC:20170305T235959
DTSTAMP:20260422T142030
CREATED:20170303T110300Z
LAST-MODIFIED:20170303T110300Z
UID:2920-1488717000-1488758399@ayuntamientodebaza.es
SUMMARY:Pregón Semana Santa y concierto de la Banda de Música Municipal
DESCRIPTION:Salón Ideal
URL:https://ayuntamientodebaza.es/agenda/pregon-semana-santa-y-concierto-de-la-banda-de-musica-municipal/
CATEGORIES:Cultura y Educación
END:VEVENT
BEGIN:VEVENT
DTSTART;TZID=UTC:20170305T193000
DTEND;TZID=UTC:20170305T235959
DTSTAMP:20260422T142030
CREATED:20170303T110453Z
LAST-MODIFIED:20170303T110453Z
UID:2921-1488742200-1488758399@ayuntamientodebaza.es
SUMMARY:Representación teatral "los marqueses de Matute"
DESCRIPTION:Interpretado por el Grupo de Teatro Plaza Mayor a beneficio de la Cofradia de la Esperanz.  \nSalon Auditorio Enrique Pareja \nPrecio de la entrada 10€
URL:https://ayuntamientodebaza.es/agenda/representacion-teatral-los-marqueses-de-matute/
CATEGORIES:Cultura y Educación
END:VEVENT
END:VCALENDAR