BEGIN:VCALENDAR
VERSION:2.0
PRODID:-//Excmo. Ayuntamiento de Baza - ECPv6.10.1.1//NONSGML v1.0//EN
CALSCALE:GREGORIAN
METHOD:PUBLISH
X-ORIGINAL-URL:https://ayuntamientodebaza.es
X-WR-CALDESC:Eventos para Excmo. Ayuntamiento de Baza
REFRESH-INTERVAL;VALUE=DURATION:PT1H
X-Robots-Tag:noindex
X-PUBLISHED-TTL:PT1H
BEGIN:VTIMEZONE
TZID:UTC
BEGIN:STANDARD
TZOFFSETFROM:+0000
TZOFFSETTO:+0000
TZNAME:UTC
DTSTART:20170101T000000
END:STANDARD
END:VTIMEZONE
BEGIN:VEVENT
DTSTART;TZID=UTC:20170308T160000
DTEND;TZID=UTC:20170308T235959
DTSTAMP:20260422T142031
CREATED:20170303T110809Z
LAST-MODIFIED:20170303T110809Z
UID:2922-1488988800-1489017599@ayuntamientodebaza.es
SUMMARY:Concurso José Salinas
DESCRIPTION: Fase eliminatoria del Concurso “José Salinas” en la especialidad de Interpretación\, Música de Cámara y composición. \n Auditorio del Conservatorio.
URL:https://ayuntamientodebaza.es/agenda/concurso-jose-salinas/
CATEGORIES:Cultura y Educación
END:VEVENT
END:VCALENDAR