BEGIN:VCALENDAR
VERSION:2.0
PRODID:-//Excmo. Ayuntamiento de Baza - ECPv6.10.1.1//NONSGML v1.0//EN
CALSCALE:GREGORIAN
METHOD:PUBLISH
X-WR-CALNAME:Excmo. Ayuntamiento de Baza
X-ORIGINAL-URL:https://ayuntamientodebaza.es
X-WR-CALDESC:Eventos para Excmo. Ayuntamiento de Baza
REFRESH-INTERVAL;VALUE=DURATION:PT1H
X-Robots-Tag:noindex
X-PUBLISHED-TTL:PT1H
BEGIN:VTIMEZONE
TZID:UTC
BEGIN:STANDARD
TZOFFSETFROM:+0000
TZOFFSETTO:+0000
TZNAME:UTC
DTSTART:20170101T000000
END:STANDARD
END:VTIMEZONE
BEGIN:VEVENT
DTSTART;TZID=UTC:20170315T160000
DTEND;TZID=UTC:20170315T193000
DTSTAMP:20260422T142431
CREATED:20170307T130117Z
LAST-MODIFIED:20170307T130117Z
UID:2929-1489593600-1489606200@ayuntamientodebaza.es
SUMMARY:Audición de alumnos del conservatorio
DESCRIPTION:Conservatorio
URL:https://ayuntamientodebaza.es/agenda/audicion-de-alumnos-del-conservatorio/
CATEGORIES:Cultura y Educación
END:VEVENT
END:VCALENDAR