BEGIN:VCALENDAR
VERSION:2.0
PRODID:-//Excmo. Ayuntamiento de Baza - ECPv6.10.1.1//NONSGML v1.0//EN
CALSCALE:GREGORIAN
METHOD:PUBLISH
X-WR-CALNAME:Excmo. Ayuntamiento de Baza
X-ORIGINAL-URL:https://ayuntamientodebaza.es
X-WR-CALDESC:Eventos para Excmo. Ayuntamiento de Baza
REFRESH-INTERVAL;VALUE=DURATION:PT1H
X-Robots-Tag:noindex
X-PUBLISHED-TTL:PT1H
BEGIN:VTIMEZONE
TZID:UTC
BEGIN:STANDARD
TZOFFSETFROM:+0000
TZOFFSETTO:+0000
TZNAME:UTC
DTSTART:20170101T000000
END:STANDARD
END:VTIMEZONE
BEGIN:VEVENT
DTSTART;TZID=UTC:20170331T190000
DTEND;TZID=UTC:20170331T235959
DTSTAMP:20260422T125553
CREATED:20170330T125250Z
LAST-MODIFIED:20170330T125250Z
UID:2940-1490986800-1491004799@ayuntamientodebaza.es
SUMMARY:Presentación de cartel y pregón de la Real Cofradia del STMO: Cristo de los Méndez
DESCRIPTION:Centro cultural Santo Domingo
URL:https://ayuntamientodebaza.es/agenda/presentacion-de-cartel-y-pregon-de-la-real-cofradia-del-stmo-cristo-de-los-mendez/
CATEGORIES:Cultura y Educación
END:VEVENT
END:VCALENDAR