BEGIN:VCALENDAR
VERSION:2.0
PRODID:-//Excmo. Ayuntamiento de Baza - ECPv6.10.1.1//NONSGML v1.0//EN
CALSCALE:GREGORIAN
METHOD:PUBLISH
X-WR-CALNAME:Excmo. Ayuntamiento de Baza
X-ORIGINAL-URL:https://ayuntamientodebaza.es
X-WR-CALDESC:Eventos para Excmo. Ayuntamiento de Baza
REFRESH-INTERVAL;VALUE=DURATION:PT1H
X-Robots-Tag:noindex
X-PUBLISHED-TTL:PT1H
BEGIN:VTIMEZONE
TZID:UTC
BEGIN:STANDARD
TZOFFSETFROM:+0000
TZOFFSETTO:+0000
TZNAME:UTC
DTSTART:20170101T000000
END:STANDARD
END:VTIMEZONE
BEGIN:VEVENT
DTSTART;TZID=UTC:20170412T120000
DTEND;TZID=UTC:20170412T235959
DTSTAMP:20260422T125556
CREATED:20170410T110344Z
LAST-MODIFIED:20170410T110344Z
UID:2947-1491998400-1492041599@ayuntamientodebaza.es
SUMMARY:Cuenta cuentos
DESCRIPTION:Biblioteca Municipal
URL:https://ayuntamientodebaza.es/agenda/cuenta-cuentos-2/
CATEGORIES:Cultura y Educación
END:VEVENT
BEGIN:VEVENT
DTSTART;TZID=UTC:20170412T200000
DTEND;TZID=UTC:20170412T235959
DTSTAMP:20260422T125556
CREATED:20170410T111235Z
LAST-MODIFIED:20170410T111235Z
UID:2949-1492027200-1492041599@ayuntamientodebaza.es
SUMMARY:Salida de la Soledad
DESCRIPTION:salida desde la Iglesia de la Merced\, paso por Carrera Oficial a las 23:30h.
URL:https://ayuntamientodebaza.es/agenda/salida-de-la-soledad/
CATEGORIES:Cultura y Educación
END:VEVENT
END:VCALENDAR