BEGIN:VCALENDAR
VERSION:2.0
PRODID:-//Excmo. Ayuntamiento de Baza - ECPv6.10.1.1//NONSGML v1.0//EN
CALSCALE:GREGORIAN
METHOD:PUBLISH
X-WR-CALNAME:Excmo. Ayuntamiento de Baza
X-ORIGINAL-URL:https://ayuntamientodebaza.es
X-WR-CALDESC:Eventos para Excmo. Ayuntamiento de Baza
REFRESH-INTERVAL;VALUE=DURATION:PT1H
X-Robots-Tag:noindex
X-PUBLISHED-TTL:PT1H
BEGIN:VTIMEZONE
TZID:UTC
BEGIN:STANDARD
TZOFFSETFROM:+0000
TZOFFSETTO:+0000
TZNAME:UTC
DTSTART:20170101T000000
END:STANDARD
END:VTIMEZONE
BEGIN:VEVENT
DTSTART;TZID=UTC:20170413T191500
DTEND;TZID=UTC:20170413T235959
DTSTAMP:20260422T130404
CREATED:20170410T111422Z
LAST-MODIFIED:20170410T111422Z
UID:2950-1492110900-1492127999@ayuntamientodebaza.es
SUMMARY:Salida del Nazareno
DESCRIPTION: Iglesia de San Juan. Paso por Carrera Oficial 21.45h.
URL:https://ayuntamientodebaza.es/agenda/salida-del-nazareno/
CATEGORIES:Cultura y Educación
END:VEVENT
BEGIN:VEVENT
DTSTART;TZID=UTC:20170413T200000
DTEND;TZID=UTC:20170413T235959
DTSTAMP:20260422T130404
CREATED:20170410T111534Z
LAST-MODIFIED:20170410T111534Z
UID:2951-1492113600-1492127999@ayuntamientodebaza.es
SUMMARY:Salida de La Esperanza y El Cristo del Amor
DESCRIPTION: Iglesia de San Juan. Paso por Carrera Oficial a las 22.30h.
URL:https://ayuntamientodebaza.es/agenda/salida-de-la-esperanza-y-el-cristo-del-amor/
CATEGORIES:Cultura y Educación
END:VEVENT
BEGIN:VEVENT
DTSTART;TZID=UTC:20170413T230000
DTEND;TZID=UTC:20170413T235959
DTSTAMP:20260422T130404
CREATED:20170410T111626Z
LAST-MODIFIED:20170410T111626Z
UID:2952-1492124400-1492127999@ayuntamientodebaza.es
SUMMARY:Salida del Cristo de los Mendez
DESCRIPTION: Iglesia Mayor. Paso por Carrera Oficial a las 02.15h.
URL:https://ayuntamientodebaza.es/agenda/salida-del-cristo-de-los-mendez/
CATEGORIES:Cultura y Educación
END:VEVENT
END:VCALENDAR