BEGIN:VCALENDAR
VERSION:2.0
PRODID:-//Excmo. Ayuntamiento de Baza - ECPv6.10.1.1//NONSGML v1.0//EN
CALSCALE:GREGORIAN
METHOD:PUBLISH
X-ORIGINAL-URL:https://ayuntamientodebaza.es
X-WR-CALDESC:Eventos para Excmo. Ayuntamiento de Baza
REFRESH-INTERVAL;VALUE=DURATION:PT1H
X-Robots-Tag:noindex
X-PUBLISHED-TTL:PT1H
BEGIN:VTIMEZONE
TZID:UTC
BEGIN:STANDARD
TZOFFSETFROM:+0000
TZOFFSETTO:+0000
TZNAME:UTC
DTSTART:20170101T000000
END:STANDARD
END:VTIMEZONE
BEGIN:VEVENT
DTSTART;TZID=UTC:20170415T183000
DTEND;TZID=UTC:20170415T235959
DTSTAMP:20260422T125550
CREATED:20170410T114531Z
LAST-MODIFIED:20170410T114531Z
UID:2958-1492281000-1492300799@ayuntamientodebaza.es
SUMMARY:Concierto de la Orquesta y Coro de la Academia de Artes Escénicas
DESCRIPTION:
URL:https://ayuntamientodebaza.es/agenda/concierto-de-la-orquesta-y-coro-de-la-academia-de-artes-escenicas/
CATEGORIES:Cultura y Educación
END:VEVENT
END:VCALENDAR