BEGIN:VCALENDAR
VERSION:2.0
PRODID:-//Excmo. Ayuntamiento de Baza - ECPv6.10.1.1//NONSGML v1.0//EN
CALSCALE:GREGORIAN
METHOD:PUBLISH
X-ORIGINAL-URL:https://ayuntamientodebaza.es
X-WR-CALDESC:Eventos para Excmo. Ayuntamiento de Baza
REFRESH-INTERVAL;VALUE=DURATION:PT1H
X-Robots-Tag:noindex
X-PUBLISHED-TTL:PT1H
BEGIN:VTIMEZONE
TZID:UTC
BEGIN:STANDARD
TZOFFSETFROM:+0000
TZOFFSETTO:+0000
TZNAME:UTC
DTSTART:20170101T000000
END:STANDARD
END:VTIMEZONE
BEGIN:VEVENT
DTSTART;TZID=UTC:20170420T100000
DTEND;TZID=UTC:20170420T130000
DTSTAMP:20260422T131628
CREATED:20170418T144715Z
LAST-MODIFIED:20170418T144715Z
UID:3005-1492682400-1492693200@ayuntamientodebaza.es
SUMMARY:Títeres para escolares
DESCRIPTION:Títeres dirigidos a los alumnos de infantil y primaria en sesiones programadas con los centros educativos.
URL:https://ayuntamientodebaza.es/agenda/titeres-para-escolares-2/
LOCATION:Biblioteca Municipal\, Biblioteca Municipal
CATEGORIES:Cultura y Educación
END:VEVENT
BEGIN:VEVENT
DTSTART;TZID=UTC:20170420T203000
DTEND;TZID=UTC:20170420T235959
DTSTAMP:20260422T131628
CREATED:20170418T144932Z
LAST-MODIFIED:20170418T144932Z
UID:3002-1492720200-1492732799@ayuntamientodebaza.es
SUMMARY:Presentación libro
DESCRIPTION:Presentación del libro ‘Menés’ de Ricardo Cañabate Egea\, Cronista Oficial de Baza. Proyecto recopilatorio sobre el léxico más bastetano. Monólogo a cargo de Vanesa Mesas\, de la Academia de Artes Escénicas de Baza\, con el título de ‘Gambullos’. \nEntrada libre hasta completar aforo.
URL:https://ayuntamientodebaza.es/agenda/presentacion-libro/
LOCATION:Auditorio del Museo Arqueológico Municipal.\, Auditorio del Museo Arqueológico Municipal.
CATEGORIES:Cultura y Educación
END:VEVENT
END:VCALENDAR