BEGIN:VCALENDAR
VERSION:2.0
PRODID:-//Excmo. Ayuntamiento de Baza - ECPv6.10.1.1//NONSGML v1.0//EN
CALSCALE:GREGORIAN
METHOD:PUBLISH
X-WR-CALNAME:Excmo. Ayuntamiento de Baza
X-ORIGINAL-URL:https://ayuntamientodebaza.es
X-WR-CALDESC:Eventos para Excmo. Ayuntamiento de Baza
REFRESH-INTERVAL;VALUE=DURATION:PT1H
X-Robots-Tag:noindex
X-PUBLISHED-TTL:PT1H
BEGIN:VTIMEZONE
TZID:UTC
BEGIN:STANDARD
TZOFFSETFROM:+0000
TZOFFSETTO:+0000
TZNAME:UTC
DTSTART:20170101T000000
END:STANDARD
END:VTIMEZONE
BEGIN:VEVENT
DTSTART;TZID=UTC:20170421T100000
DTEND;TZID=UTC:20170421T130000
DTSTAMP:20260422T125540
CREATED:20170418T144715Z
LAST-MODIFIED:20170418T144715Z
UID:3006-1492768800-1492779600@ayuntamientodebaza.es
SUMMARY:Títeres para escolares
DESCRIPTION:Títeres dirigidos a los alumnos de infantil y primaria en sesiones programadas con los centros educativos.
URL:https://ayuntamientodebaza.es/agenda/titeres-para-escolares-3/
LOCATION:Biblioteca Municipal\, Biblioteca Municipal
CATEGORIES:Cultura y Educación
END:VEVENT
BEGIN:VEVENT
DTSTART;TZID=UTC:20170421T203000
DTEND;TZID=UTC:20170421T235959
DTSTAMP:20260422T125540
CREATED:20170419T125121Z
LAST-MODIFIED:20170419T125121Z
UID:3008-1492806600-1492819199@ayuntamientodebaza.es
SUMMARY:Presentación libro
DESCRIPTION:Presentación del libro “Boabdil y el príncipe del día y de la noche” del escritor Atonio Enrique. Música del grupo Zalema. \nEntrada libre hasta completar aforo
URL:https://ayuntamientodebaza.es/agenda/presentacion-libro-2/
LOCATION:Centro Cultural Santo Domingo\, Centro Cultural Santo Domingo
CATEGORIES:Cultura y Educación
END:VEVENT
END:VCALENDAR