BEGIN:VCALENDAR
VERSION:2.0
PRODID:-//Excmo. Ayuntamiento de Baza - ECPv6.10.1.1//NONSGML v1.0//EN
CALSCALE:GREGORIAN
METHOD:PUBLISH
X-WR-CALNAME:Excmo. Ayuntamiento de Baza
X-ORIGINAL-URL:https://ayuntamientodebaza.es
X-WR-CALDESC:Eventos para Excmo. Ayuntamiento de Baza
REFRESH-INTERVAL;VALUE=DURATION:PT1H
X-Robots-Tag:noindex
X-PUBLISHED-TTL:PT1H
BEGIN:VTIMEZONE
TZID:UTC
BEGIN:STANDARD
TZOFFSETFROM:+0000
TZOFFSETTO:+0000
TZNAME:UTC
DTSTART:20170101T000000
END:STANDARD
END:VTIMEZONE
BEGIN:VEVENT
DTSTART;TZID=UTC:20170630T210000
DTEND;TZID=UTC:20170630T235959
DTSTAMP:20260420T100022
CREATED:20170630T085856Z
LAST-MODIFIED:20170630T085856Z
UID:3282-1498856400-1498867199@ayuntamientodebaza.es
SUMMARY:Jazz Te Digo Festival
DESCRIPTION:Jazz Te Digo Festival. Desde las 21.00h. en la Plaza Mayor actuación de  las bandas GanJazz\, Sergio Albacete Quartet y The trouper`s swing band.
URL:https://ayuntamientodebaza.es/agenda/jazz-te-digo-festival/
LOCATION:Plaza Mayor\, Plaza Mayor
CATEGORIES:Cultura y Educación
END:VEVENT
END:VCALENDAR