BEGIN:VCALENDAR
VERSION:2.0
PRODID:-//Excmo. Ayuntamiento de Baza - ECPv6.10.1.1//NONSGML v1.0//EN
CALSCALE:GREGORIAN
METHOD:PUBLISH
X-ORIGINAL-URL:https://ayuntamientodebaza.es
X-WR-CALDESC:Eventos para Excmo. Ayuntamiento de Baza
REFRESH-INTERVAL;VALUE=DURATION:PT1H
X-Robots-Tag:noindex
X-PUBLISHED-TTL:PT1H
BEGIN:VTIMEZONE
TZID:UTC
BEGIN:STANDARD
TZOFFSETFROM:+0000
TZOFFSETTO:+0000
TZNAME:UTC
DTSTART:20170101T000000
END:STANDARD
END:VTIMEZONE
BEGIN:VEVENT
DTSTART;TZID=UTC:20170701T190000
DTEND;TZID=UTC:20170701T235959
DTSTAMP:20260420T100347
CREATED:20170630T093111Z
LAST-MODIFIED:20170630T093111Z
UID:3286-1498935600-1498953599@ayuntamientodebaza.es
SUMMARY:Poesía
DESCRIPTION:Aula Municipal de Poesía y Humanismo. Con Alexis Díaz Pimienta y Charo Martín.
URL:https://ayuntamientodebaza.es/agenda/poesia/
LOCATION:Centro Cultural Santo Domingo\, Centro Cultural Santo Domingo
CATEGORIES:Cultura y Educación
END:VEVENT
BEGIN:VEVENT
DTSTART;TZID=UTC:20170701T210000
DTEND;TZID=UTC:20170701T235959
DTSTAMP:20260420T100347
CREATED:20170630T090019Z
LAST-MODIFIED:20170630T090019Z
UID:3283-1498942800-1498953599@ayuntamientodebaza.es
SUMMARY:Jazz Te Digo Festival
DESCRIPTION:Jazz Te Digo Festival con música en directo de las actuaciones de JazzMission\, Gran Campeón y Sam Pagli.
URL:https://ayuntamientodebaza.es/agenda/jazz-te-digo-festival-2/
LOCATION:Plaza Mayor\, Plaza Mayor
CATEGORIES:Cultura y Educación
END:VEVENT
END:VCALENDAR