BEGIN:VCALENDAR
VERSION:2.0
PRODID:-//Excmo. Ayuntamiento de Baza - ECPv6.10.1.1//NONSGML v1.0//EN
CALSCALE:GREGORIAN
METHOD:PUBLISH
X-ORIGINAL-URL:https://ayuntamientodebaza.es
X-WR-CALDESC:Eventos para Excmo. Ayuntamiento de Baza
REFRESH-INTERVAL;VALUE=DURATION:PT1H
X-Robots-Tag:noindex
X-PUBLISHED-TTL:PT1H
BEGIN:VTIMEZONE
TZID:UTC
BEGIN:STANDARD
TZOFFSETFROM:+0000
TZOFFSETTO:+0000
TZNAME:UTC
DTSTART:20170101T000000
END:STANDARD
END:VTIMEZONE
BEGIN:VEVENT
DTSTART;TZID=UTC:20170720T210000
DTEND;TZID=UTC:20170720T235959
DTSTAMP:20260420T100347
CREATED:20170706T120206Z
LAST-MODIFIED:20170706T120206Z
UID:3314-1500584400-1500595199@ayuntamientodebaza.es
SUMMARY:Entrega del "I Premio Internacional de Poesía Dama de Baza."
DESCRIPTION:Tras la entrega del premio\, actuación del grupo de flamenco fusión Zalema. \nEntrada libre hasta completar aforo.
URL:https://ayuntamientodebaza.es/agenda/entrega-del-i-premio-internacional-de-poesia-dama-de-baza/
LOCATION:Espacio Cultural Santo Domingo.\, Espacio Cultural Santo Domingo.
CATEGORIES:Cultura y Educación
END:VEVENT
END:VCALENDAR