BEGIN:VCALENDAR
VERSION:2.0
PRODID:-//Excmo. Ayuntamiento de Baza - ECPv6.10.1.1//NONSGML v1.0//EN
CALSCALE:GREGORIAN
METHOD:PUBLISH
X-ORIGINAL-URL:https://ayuntamientodebaza.es
X-WR-CALDESC:Eventos para Excmo. Ayuntamiento de Baza
REFRESH-INTERVAL;VALUE=DURATION:PT1H
X-Robots-Tag:noindex
X-PUBLISHED-TTL:PT1H
BEGIN:VTIMEZONE
TZID:UTC
BEGIN:STANDARD
TZOFFSETFROM:+0000
TZOFFSETTO:+0000
TZNAME:UTC
DTSTART:20170101T000000
END:STANDARD
END:VTIMEZONE
BEGIN:VEVENT
DTSTART;TZID=UTC:20170906T180000
DTEND;TZID=UTC:20170906T210000
DTSTAMP:20260420T070809
CREATED:20170905T101825Z
LAST-MODIFIED:20170905T101825Z
UID:3320-1504720800-1504731600@ayuntamientodebaza.es
SUMMARY:Fiesta de Interés Turístico Internacional Cascamorras.
DESCRIPTION:Inicio en Las Arrodeas. Instaladas duchas para los participantes en la carrera en la Estación de Autobuses hasta las 23.00 horas.
URL:https://ayuntamientodebaza.es/agenda/fiesta-de-interes-turistico-internacional-cascamorras/
LOCATION:Las Arrodeas\, Las Arrodeas
CATEGORIES:Cultura y Educación
END:VEVENT
BEGIN:VEVENT
DTSTART;TZID=UTC:20170906T220000
DTEND;TZID=UTC:20170906T235959
DTSTAMP:20260420T070809
CREATED:20170905T101929Z
LAST-MODIFIED:20170905T101929Z
UID:3322-1504735200-1504742399@ayuntamientodebaza.es
SUMMARY:Encendido del Alumbrado extraordinario de Feria 2017.
DESCRIPTION:
URL:https://ayuntamientodebaza.es/agenda/encendido-del-alumbrado-extraordinario-de-feria-2017/
LOCATION:Recinto Ferial.\, Recinto Ferial.
CATEGORIES:Cultura y Educación
END:VEVENT
END:VCALENDAR