BEGIN:VCALENDAR
VERSION:2.0
PRODID:-//Excmo. Ayuntamiento de Baza - ECPv6.10.1.1//NONSGML v1.0//EN
CALSCALE:GREGORIAN
METHOD:PUBLISH
X-WR-CALNAME:Excmo. Ayuntamiento de Baza
X-ORIGINAL-URL:https://ayuntamientodebaza.es
X-WR-CALDESC:Eventos para Excmo. Ayuntamiento de Baza
REFRESH-INTERVAL;VALUE=DURATION:PT1H
X-Robots-Tag:noindex
X-PUBLISHED-TTL:PT1H
BEGIN:VTIMEZONE
TZID:UTC
BEGIN:STANDARD
TZOFFSETFROM:+0000
TZOFFSETTO:+0000
TZNAME:UTC
DTSTART:20170101T000000
END:STANDARD
END:VTIMEZONE
BEGIN:VEVENT
DTSTART;TZID=UTC:20170908T110000
DTEND;TZID=UTC:20170908T235959
DTSTAMP:20260420T070614
CREATED:20170906T085436Z
LAST-MODIFIED:20170906T085436Z
UID:3327-1504868400-1504915199@ayuntamientodebaza.es
SUMMARY:Misa Pontifical en Honor a la Stma. Virgen de la Piedad. Patrona de Baza.
DESCRIPTION:
URL:https://ayuntamientodebaza.es/agenda/misa-pontifical-en-honor-a-la-stma-virgen-de-la-piedad-patrona-de-baza/
LOCATION:Iglesia de la Merced.\, Iglesia de la Merced.
CATEGORIES:Cultura y Educación
END:VEVENT
BEGIN:VEVENT
DTSTART;TZID=UTC:20170908T123000
DTEND;TZID=UTC:20170908T235959
DTSTAMP:20260420T070614
CREATED:20170906T085952Z
LAST-MODIFIED:20170906T085952Z
UID:3329-1504873800-1504915199@ayuntamientodebaza.es
SUMMARY:Cabalgada anunciadora de las fiestas.
DESCRIPTION:Los niños que suban a las carrozas deberán entregar autorización firmada por sus padres. Nuevo recorrido: Parque de la constitución\, Cádiz\, Pintor Velázquez\, Avda. José de Mora\, Plaza San Francisco\, Carril\, Dolores\, Corredera\, Puerta de Lorca\, Agua\, Alamillos\, caños Dorados y Alameda.
URL:https://ayuntamientodebaza.es/agenda/cabalgada-anunciadora-de-las-fiestas/
CATEGORIES:Cultura y Educación
END:VEVENT
BEGIN:VEVENT
DTSTART;TZID=UTC:20170908T193000
DTEND;TZID=UTC:20170908T200000
DTSTAMP:20260420T070614
CREATED:20170906T085659Z
LAST-MODIFIED:20170906T085659Z
UID:3328-1504899000-1504900800@ayuntamientodebaza.es
SUMMARY:Ofrenda de flores a nuestra Patrona.
DESCRIPTION:Se invita a participar a todas las instituciones civiles y asociaciones religiosas\, vecinales\, culturales\, musicales\, deportivas y a todos los devotos de nuestra Madre de la Piedad. 
URL:https://ayuntamientodebaza.es/agenda/ofrenda-de-flores-a-nuestra-patrona/
LOCATION:Iglesia de la Merced.\, Iglesia de la Merced.
CATEGORIES:Cultura y Educación
END:VEVENT
BEGIN:VEVENT
DTSTART;TZID=UTC:20170908T200000
DTEND;TZID=UTC:20170908T235959
DTSTAMP:20260420T070614
CREATED:20170906T090101Z
LAST-MODIFIED:20170906T090101Z
UID:3330-1504900800-1504915199@ayuntamientodebaza.es
SUMMARY:Solemne procesión de NTRA. Patrona y alcaldesa Perpetua de Baza\, la STMA. Virgen de la Piedad.
DESCRIPTION:
URL:https://ayuntamientodebaza.es/agenda/solemne-procesion-de-ntra-patrona-y-alcaldesa-perpetua-de-baza-la-stma-virgen-de-la-piedad/
CATEGORIES:Cultura y Educación
END:VEVENT
END:VCALENDAR