BEGIN:VCALENDAR
VERSION:2.0
PRODID:-//Excmo. Ayuntamiento de Baza - ECPv6.10.1.1//NONSGML v1.0//EN
CALSCALE:GREGORIAN
METHOD:PUBLISH
X-ORIGINAL-URL:https://ayuntamientodebaza.es
X-WR-CALDESC:Eventos para Excmo. Ayuntamiento de Baza
REFRESH-INTERVAL;VALUE=DURATION:PT1H
X-Robots-Tag:noindex
X-PUBLISHED-TTL:PT1H
BEGIN:VTIMEZONE
TZID:UTC
BEGIN:STANDARD
TZOFFSETFROM:+0000
TZOFFSETTO:+0000
TZNAME:UTC
DTSTART:20170101T000000
END:STANDARD
END:VTIMEZONE
BEGIN:VEVENT
DTSTART;TZID=UTC:20170913T203000
DTEND;TZID=UTC:20170913T235959
DTSTAMP:20260420T070904
CREATED:20170906T090938Z
LAST-MODIFIED:20170906T090938Z
UID:3334-1505334600-1505347199@ayuntamientodebaza.es
SUMMARY:Homenaje a nuestros mayores y espectáculo de copla.
DESCRIPTION:Entrada previa invitación\, que se recogerán en el Centro de participación activa para mayores\, Avda. José de Mora.
URL:https://ayuntamientodebaza.es/agenda/homenaje-a-nuestros-mayores-y-espectaculo-de-copla/
LOCATION:Caseta Municipal. Recinto Ferial.\, Caseta Municipal. Recinto Ferial.
CATEGORIES:Cultura y Educación
END:VEVENT
END:VCALENDAR