BEGIN:VCALENDAR
VERSION:2.0
PRODID:-//Excmo. Ayuntamiento de Baza - ECPv6.10.1.1//NONSGML v1.0//EN
CALSCALE:GREGORIAN
METHOD:PUBLISH
X-WR-CALNAME:Excmo. Ayuntamiento de Baza
X-ORIGINAL-URL:https://ayuntamientodebaza.es
X-WR-CALDESC:Eventos para Excmo. Ayuntamiento de Baza
REFRESH-INTERVAL;VALUE=DURATION:PT1H
X-Robots-Tag:noindex
X-PUBLISHED-TTL:PT1H
BEGIN:VTIMEZONE
TZID:UTC
BEGIN:STANDARD
TZOFFSETFROM:+0000
TZOFFSETTO:+0000
TZNAME:UTC
DTSTART:20170101T000000
END:STANDARD
END:VTIMEZONE
BEGIN:VEVENT
DTSTART;TZID=UTC:20171221T203000
DTEND;TZID=UTC:20171221T220000
DTSTAMP:20260420T023510
CREATED:20171221T092050Z
LAST-MODIFIED:20171221T092050Z
UID:3346-1513888200-1513893600@ayuntamientodebaza.es
SUMMARY:Concierto Navidad. Coros y BMM
DESCRIPTION:Tradicional concierto de Navidad de los coros Juan Hernández y Alcazaba y la asociación musical Banda Municipal de Música ofrecen su concierto a beneficio de la campaña ‘Ningún niño sin jugete”.
URL:https://ayuntamientodebaza.es/agenda/concierto-navidad-coros-y-bmm/
LOCATION:Auditorio Enrique Pareja\, Salón Ideal\, Auditorio Enrique Pareja\, Salón Ideal
CATEGORIES:Cultura y Educación
END:VEVENT
END:VCALENDAR