BEGIN:VCALENDAR
VERSION:2.0
PRODID:-//Excmo. Ayuntamiento de Baza - ECPv6.10.1.1//NONSGML v1.0//EN
CALSCALE:GREGORIAN
METHOD:PUBLISH
X-WR-CALNAME:Excmo. Ayuntamiento de Baza
X-ORIGINAL-URL:https://ayuntamientodebaza.es
X-WR-CALDESC:Eventos para Excmo. Ayuntamiento de Baza
REFRESH-INTERVAL;VALUE=DURATION:PT1H
X-Robots-Tag:noindex
X-PUBLISHED-TTL:PT1H
BEGIN:VTIMEZONE
TZID:UTC
BEGIN:STANDARD
TZOFFSETFROM:+0000
TZOFFSETTO:+0000
TZNAME:UTC
DTSTART:20170101T000000
END:STANDARD
END:VTIMEZONE
BEGIN:VEVENT
DTSTART;TZID=UTC:20171231T113000
DTEND;TZID=UTC:20171231T235959
DTSTAMP:20260420T023521
CREATED:20171221T094842Z
LAST-MODIFIED:20171221T094842Z
UID:3364-1514719800-1514764799@ayuntamientodebaza.es
SUMMARY:Campanadas infantiles
DESCRIPTION:Campanadas infantiles en la Plaza Mayor\, con actividades y animación para que los peques puedan disfrutar de unas campanas a su medida. Con la colaboración del módulo de educación infantil del IES Jiménez Montoya.
URL:https://ayuntamientodebaza.es/agenda/campanadas-infantiles/
LOCATION:Plaza Mayor\, Plaza Mayor
CATEGORIES:Cultura y Educación
END:VEVENT
END:VCALENDAR